BEGIN:VCALENDAR
VERSION:2.0
PRODID:-//Noank Historical Society - ECPv6.15.20//NONSGML v1.0//EN
CALSCALE:GREGORIAN
METHOD:PUBLISH
X-WR-CALNAME:Noank Historical Society
X-ORIGINAL-URL:https://noankhistoricalsociety.org
X-WR-CALDESC:Events for Noank Historical Society
REFRESH-INTERVAL;VALUE=DURATION:PT1H
X-Robots-Tag:noindex
X-PUBLISHED-TTL:PT1H
BEGIN:VTIMEZONE
TZID:UTC
BEGIN:STANDARD
TZOFFSETFROM:+0000
TZOFFSETTO:+0000
TZNAME:UTC
DTSTART:20240101T000000
END:STANDARD
END:VTIMEZONE
BEGIN:VEVENT
DTSTART;TZID=UTC:20251119T193000
DTEND;TZID=UTC:20251119T210000
DTSTAMP:20260424T230346
CREATED:20251027T185834Z
LAST-MODIFIED:20251027T185955Z
UID:7562-1763580600-1763586000@noankhistoricalsociety.org
SUMMARY:Sister Sailors of Stonington
DESCRIPTION:JOIN US:  7:30pm\, Wednesday\, November 19\, 2025\nThe Latham/Chester Store\, 108 Main Street\, Noank\nJoin Chelsea Mitchell\, the Director of the R.W. Woolworth Library & Research Center at Historic Stonington as she discusses the “Sister Sailors of Stonington”\, exploring the brave and passionate women who went to sea with their husbands in the 19th century. Defying traditional expectations of a woman’s duties\, these pioneering women traveled thousands of miles on voyages that lasted years at a time\, to the very edges of the known world. Learn how women like Abby Jane Morrell and Mary Burch Brewster navigated the forces of love and duty aboard ship; and how those same forces were tested by both nature and society. \nChelsea Mitchell lives in Pawcatuck with her husband. She received her MLIS from the University of Rhode Island\, and has been at Historic Stonington (formerly the Stonington Historical Society) for nearly a decade. Chelsea has a special interest in women’s history\, and sharing the lesser known stories of Stonington’s past in an effort to humanize our ancestors. \n 
URL:https://noankhistoricalsociety.org/event/sister-sailors-of-stonington/
LOCATION:The Latham-Chester Store\, 108 Main Street\, Noank\, CT\, 06340\, United States
END:VEVENT
END:VCALENDAR