BEGIN:VCALENDAR
VERSION:2.0
PRODID:-//Noank Historical Society - ECPv6.15.20//NONSGML v1.0//EN
CALSCALE:GREGORIAN
METHOD:PUBLISH
X-WR-CALNAME:Noank Historical Society
X-ORIGINAL-URL:https://noankhistoricalsociety.org
X-WR-CALDESC:Events for Noank Historical Society
REFRESH-INTERVAL;VALUE=DURATION:PT1H
X-Robots-Tag:noindex
X-PUBLISHED-TTL:PT1H
BEGIN:VTIMEZONE
TZID:UTC
BEGIN:STANDARD
TZOFFSETFROM:+0000
TZOFFSETTO:+0000
TZNAME:UTC
DTSTART:20210101T000000
END:STANDARD
END:VTIMEZONE
BEGIN:VEVENT
DTSTART;TZID=UTC:20221021T180000
DTEND;TZID=UTC:20221021T210000
DTSTAMP:20260425T141904
CREATED:20230602T222039Z
LAST-MODIFIED:20230616T201301Z
UID:6035-1666375200-1666386000@noankhistoricalsociety.org
SUMMARY:The Noank Masters - A Retrospective of the Noank/Mystic Art Colony
DESCRIPTION:The Noank Masters – A Retrospective of the Noank/Mystic Art Colony \nThe Noank Historical Society is hosting a special viewing of original artwork by prominent members of the Noank/Mystic Art Colony (c. 1900-1950)\, with the collector\, Jonathan Sproul. Enjoy cocktails and hors d’oeuvres as you learn about the history of the colony and its most distinguished members. We will also be hosting a raffle of an original painting by Terence Finch\, “A Time and Place in Noank.” \nSponsored by: Abbotts\, Noank Shipyard\, The Noank Village Boatyard\, The Real McCoy Rum\, Spencer & Lynn\, Willow Realty and Zest Bakery \nDate: Friday\, October 21\, 2023\, 6-9pm \nLocation: Latham-Chester Store\, 108 Main Street\, Noank. \nEvent Tickets: $15 advance / $20 door \nRaffle Tickets: $20
URL:https://noankhistoricalsociety.org/event/the-noank-masters-a-retrospective-of-the-noank-mystic-art-colony/
LOCATION:The Latham-Chester Store\, 108 Main Street\, Noank\, CT\, 06340\, United States
ATTACH;FMTTYPE=image/png:https://noankhistoricalsociety.org/wp-content/uploads/2023/06/Screen-Shot-2023-06-16-at-4.06.25-PM.png
END:VEVENT
END:VCALENDAR