BEGIN:VCALENDAR
VERSION:2.0
PRODID:-//Noank Historical Society - ECPv6.15.20//NONSGML v1.0//EN
CALSCALE:GREGORIAN
METHOD:PUBLISH
X-ORIGINAL-URL:https://noankhistoricalsociety.org
X-WR-CALDESC:Events for Noank Historical Society
REFRESH-INTERVAL;VALUE=DURATION:PT1H
X-Robots-Tag:noindex
X-PUBLISHED-TTL:PT1H
BEGIN:VTIMEZONE
TZID:UTC
BEGIN:STANDARD
TZOFFSETFROM:+0000
TZOFFSETTO:+0000
TZNAME:UTC
DTSTART:20240101T000000
END:STANDARD
END:VTIMEZONE
BEGIN:VEVENT
DTSTART;TZID=UTC:20251119T193000
DTEND;TZID=UTC:20251119T210000
DTSTAMP:20260425T153142
CREATED:20251027T185834Z
LAST-MODIFIED:20251027T185955Z
UID:7562-1763580600-1763586000@noankhistoricalsociety.org
SUMMARY:Sister Sailors of Stonington
DESCRIPTION:JOIN US:  7:30pm\, Wednesday\, November 19\, 2025\nThe Latham/Chester Store\, 108 Main Street\, Noank\nJoin Chelsea Mitchell\, the Director of the R.W. Woolworth Library & Research Center at Historic Stonington as she discusses the “Sister Sailors of Stonington”\, exploring the brave and passionate women who went to sea with their husbands in the 19th century. Defying traditional expectations of a woman’s duties\, these pioneering women traveled thousands of miles on voyages that lasted years at a time\, to the very edges of the known world. Learn how women like Abby Jane Morrell and Mary Burch Brewster navigated the forces of love and duty aboard ship; and how those same forces were tested by both nature and society. \nChelsea Mitchell lives in Pawcatuck with her husband. She received her MLIS from the University of Rhode Island\, and has been at Historic Stonington (formerly the Stonington Historical Society) for nearly a decade. Chelsea has a special interest in women’s history\, and sharing the lesser known stories of Stonington’s past in an effort to humanize our ancestors. \n 
URL:https://noankhistoricalsociety.org/event/sister-sailors-of-stonington/
LOCATION:The Latham-Chester Store\, 108 Main Street\, Noank\, CT\, 06340\, United States
END:VEVENT
BEGIN:VEVENT
DTSTART;TZID=UTC:20260318T193000
DTEND;TZID=UTC:20260318T210000
DTSTAMP:20260425T153142
CREATED:20260309T174030Z
LAST-MODIFIED:20260309T174030Z
UID:7681-1773862200-1773867600@noankhistoricalsociety.org
SUMMARY:"For the Common Good: The History of Haley Farm"
DESCRIPTION:JOIN US: 7:30pm\, Wednesday\, March 18\, 2026\nThe Latham/Chester Store\,\n108 Main Street\, Noank\n\n\n2026 marks the 250th anniversary of the Declaration of Independence and the foundation of the United States of America. To commemorate this milestone\, history organizations across the State of CT are focusing on sharing stories centered on four major themes. The first of these is “For the Common Good\,” a celebration of civic engagement in our communities. This March the Noank Historical Society will explore this theme with a panel discussion on the “Save the Haley Farm Committee” founded by several Noank residents in the 1960s.  Their efforts resulted in the creation of Haley Farm State Park and led to the establishment of the Groton Open Space Association\, which actively maintains nearly 2\,000 acres of open space land in Groton today. We will also share the history of this property during its three centuries of operation as a farm from 1649-1947.
URL:https://noankhistoricalsociety.org/event/for-the-common-good-the-history-of-haley-farm/
LOCATION:The Latham-Chester Store\, 108 Main Street\, Noank\, CT\, 06340\, United States
END:VEVENT
BEGIN:VEVENT
DTSTART;TZID=UTC:20260627T100000
DTEND;TZID=UTC:20260627T160000
DTSTAMP:20260425T153142
CREATED:20260209T200958Z
LAST-MODIFIED:20260312T181217Z
UID:7580-1782554400-1782576000@noankhistoricalsociety.org
SUMMARY:Noank Home and Garden Tour
DESCRIPTION:A Noank Home and Garden Tour\nTo benefit the Noank Historical Society\n“Art is in the Air”\nA self-guided walking tour of Noank Village on Saturday\, June 27th will include: \n\nEntry into over a dozen Noank homes and gardens\nPlein air painters throughout the gardens\, and Noank art displayed in homes\nPoints of interest highlighting Noank’s summer art colony since the early 1900s\nArtwork by local artists for sale at the annual Noank Artists Exhibition\n\nFor full event details and ticket purchase\, visit the event page.\n 
URL:https://noankhistoricalsociety.org/event/noank-house-and-garden-tour/
LOCATION:CT
END:VEVENT
END:VCALENDAR