BEGIN:VCALENDAR
VERSION:2.0
PRODID:-//Noank Historical Society - ECPv6.15.20//NONSGML v1.0//EN
CALSCALE:GREGORIAN
METHOD:PUBLISH
X-ORIGINAL-URL:https://noankhistoricalsociety.org
X-WR-CALDESC:Events for Noank Historical Society
REFRESH-INTERVAL;VALUE=DURATION:PT1H
X-Robots-Tag:noindex
X-PUBLISHED-TTL:PT1H
BEGIN:VTIMEZONE
TZID:UTC
BEGIN:STANDARD
TZOFFSETFROM:+0000
TZOFFSETTO:+0000
TZNAME:UTC
DTSTART:20240101T000000
END:STANDARD
END:VTIMEZONE
BEGIN:VEVENT
DTSTART;TZID=UTC:20251004T130000
DTEND;TZID=UTC:20251025T160000
DTSTAMP:20260425T014738
CREATED:20251001T142016Z
LAST-MODIFIED:20251001T142016Z
UID:7555-1759582800-1761408000@noankhistoricalsociety.org
SUMMARY:On the Waterfront: The Photographs of Mode Rathbun
DESCRIPTION:Due to popular demand\, we are extending the Mode Rathbun exhibit currently on display at the Latham/Chester Store (108 Main Street\, Noank).  The exhibit will be open every Saturday in October from 1-4pm.
URL:https://noankhistoricalsociety.org/event/on-the-waterfront-the-photographs-of-mode-rathbun-2/
LOCATION:The Latham-Chester Store\, 108 Main Street\, Noank\, CT\, 06340\, United States
END:VEVENT
END:VCALENDAR