BEGIN:VCALENDAR
VERSION:2.0
PRODID:-//Noank Historical Society - ECPv6.15.20//NONSGML v1.0//EN
CALSCALE:GREGORIAN
METHOD:PUBLISH
X-ORIGINAL-URL:https://noankhistoricalsociety.org
X-WR-CALDESC:Events for Noank Historical Society
REFRESH-INTERVAL;VALUE=DURATION:PT1H
X-Robots-Tag:noindex
X-PUBLISHED-TTL:PT1H
BEGIN:VTIMEZONE
TZID:UTC
BEGIN:STANDARD
TZOFFSETFROM:+0000
TZOFFSETTO:+0000
TZNAME:UTC
DTSTART:20230101T000000
END:STANDARD
END:VTIMEZONE
BEGIN:VEVENT
DTSTART;TZID=UTC:20240918T193000
DTEND;TZID=UTC:20240918T210000
DTSTAMP:20260425T212535
CREATED:20240902T184417Z
LAST-MODIFIED:20240902T184653Z
UID:7496-1726687800-1726693200@noankhistoricalsociety.org
SUMMARY:"The Sinking of the Paddlewheel Steamship ATLANTIC"
DESCRIPTION:Presented by Captain Bill Palmer \nWednesday\, September 18\, 7:30 p.m. \nLatham/Chester Store\, 108 Main Street\, Noank \n \nOn the day after Thanksgiving\, November 27\, 1846\, the paddlewheel steamship Atlantic sunk in Fishers Island Sound with a tremendous loss of life.  This September\, Captain Bill Palmer will share the story of terror\, courage and sacrifice\, as the steamer drifted\, powerless\, in hurricane force winds for two nights and a day as the Captain\, crew and passengers did all they could to help. It’s been over 175 years since the ship wrecked on the rocky shores of Fishers Island and nothing is left of the Atlantic now except monuments and tombstones\, which dot the Cedar Grove Cemetery in New London. \nCaptain Bill has been diving since the late 1960s and has been running dive boat charters since 1974.  He is the owner and operator of the Thunderfish and the new Thunderfish Express.  Capt. Bill also operates Thunderfish Productions\, which produces videos on east coast shipwrecks and marine subjects.  He has written several books including “Night of Terror: The Sinking of the Paddlewheel Steamship Atlantic.”  Copies of this book will be available at the Latham/Chester Store. \n 
URL:https://noankhistoricalsociety.org/event/the-sinking-of-the-paddlewheel-steamship-atlantic/
LOCATION:The Latham-Chester Store\, 108 Main Street\, Noank\, CT\, 06340\, United States
END:VEVENT
END:VCALENDAR