BEGIN:VCALENDAR
VERSION:2.0
PRODID:-//Noank Historical Society - ECPv6.15.20//NONSGML v1.0//EN
CALSCALE:GREGORIAN
METHOD:PUBLISH
X-ORIGINAL-URL:https://noankhistoricalsociety.org
X-WR-CALDESC:Events for Noank Historical Society
REFRESH-INTERVAL;VALUE=DURATION:PT1H
X-Robots-Tag:noindex
X-PUBLISHED-TTL:PT1H
BEGIN:VTIMEZONE
TZID:UTC
BEGIN:STANDARD
TZOFFSETFROM:+0000
TZOFFSETTO:+0000
TZNAME:UTC
DTSTART:20230101T000000
END:STANDARD
END:VTIMEZONE
BEGIN:VEVENT
DTSTART;TZID=UTC:20240628T170000
DTEND;TZID=UTC:20240901T170000
DTSTAMP:20260425T225316
CREATED:20231101T144333Z
LAST-MODIFIED:20240109T151112Z
UID:7376-1719594000-1725210000@noankhistoricalsociety.org
SUMMARY:Noank Artists Exhibition
DESCRIPTION:June 29 – September 1\, 2024 \nWednesday – Sunday\, 1-4 p.m. \nLatham/Chester Gallery \n108 Main St.\, Noank \nMeet the Artists Reception \nFriday\, June 28\, 2024 5-7 p.m.
URL:https://noankhistoricalsociety.org/event/noank-artists-exhibition/
LOCATION:The Latham-Chester Store\, 108 Main Street\, Noank\, CT\, 06340\, United States
ATTACH;FMTTYPE=image/jpeg:https://noankhistoricalsociety.org/wp-content/uploads/2023/11/art-show-logo.jpg
END:VEVENT
END:VCALENDAR