BEGIN:VCALENDAR
VERSION:2.0
PRODID:-//Noank Historical Society - ECPv6.15.20//NONSGML v1.0//EN
CALSCALE:GREGORIAN
METHOD:PUBLISH
X-WR-CALNAME:Noank Historical Society
X-ORIGINAL-URL:https://noankhistoricalsociety.org
X-WR-CALDESC:Events for Noank Historical Society
REFRESH-INTERVAL;VALUE=DURATION:PT1H
X-Robots-Tag:noindex
X-PUBLISHED-TTL:PT1H
BEGIN:VTIMEZONE
TZID:UTC
BEGIN:STANDARD
TZOFFSETFROM:+0000
TZOFFSETTO:+0000
TZNAME:UTC
DTSTART:20230101T000000
END:STANDARD
END:VTIMEZONE
BEGIN:VEVENT
DTSTART;TZID=UTC:20240619T183000
DTEND;TZID=UTC:20240619T210000
DTSTAMP:20260426T021014
CREATED:20240214T170458Z
LAST-MODIFIED:20240214T170458Z
UID:7444-1718821800-1718830800@noankhistoricalsociety.org
SUMMARY:NHS Annual Meeting and Dinner
DESCRIPTION:Join us for our Annual Meeting and a special presentation on the Palmer’s of Noank at Palmer’s Provisions\, June 19\, 2024.
URL:https://noankhistoricalsociety.org/event/nhs-annual-meeting-and-dinner/
LOCATION:Palmer’s Provisions\, 17 Pearl Street\, Noank\, CT\, 06340\, United States
END:VEVENT
END:VCALENDAR